BEGIN:VCALENDAR
VERSION:2.0
PRODID:-//hacksw/handcal//NONSGML v1.0//EN
CALSCALE:GREGORIAN
BEGIN:VEVENT
DTEND:20170602T230000Z
UID:69ec23d6a80f4
DTSTAMP:20260425T031550Z
LOCATION:4180 Zwettl an der Rodl
DESCRIPTION:Rundkurs durch Zwettl

URL;VALUE=URI:
SUMMARY:Int. Zwettler Raml-Gastro 7-Brückenlauf
DTSTART:20170602T230000Z
END:VEVENT
END:VCALENDAR
An internal server error occurred.