BEGIN:VCALENDAR
VERSION:2.0
PRODID:-//hacksw/handcal//NONSGML v1.0//EN
CALSCALE:GREGORIAN
BEGIN:VEVENT
DTEND:20170610T230000Z
UID:69eb01a1306f8
DTSTAMP:20260424T063737Z
LOCATION:9210 Pörtschach
DESCRIPTION:
URL;VALUE=URI:
SUMMARY:Pörtschacher Promenadenlauf und Nordic Walking
DTSTART:20170610T230000Z
END:VEVENT
END:VCALENDAR
An internal server error occurred.