BEGIN:VCALENDAR
VERSION:2.0
PRODID:-//hacksw/handcal//NONSGML v1.0//EN
CALSCALE:GREGORIAN
BEGIN:VEVENT
DTEND:20170111T163000Z
UID:69eb02e0c2ba8
DTSTAMP:20260424T064256Z
LOCATION:A- 1100 Wien
DESCRIPTION:Für alle\, die etwas anderes probieren wollen\, verletzt sind - chronisch oder akut\, schwanger sind\, etwas zuviel Gewicht haben. Aqua Jogging richtig lernen\, damit mann seine zahlreichen Vorteile auch tatsächlich nutzen kann.Ablauf: 8 praktische Einheiten a 85 min und ein Vortrag\, je Fr 17:30\, nur Vortrag Mi. genaue Termine anfragen! Trainer ist Lauf- und Bewegungsexperte Peter Wundsam und sein Team. Anmerkung: Alle weiteren Infos auf der genannten Webseite. Anmeldung verpflichtend. Begrenzte Teilnehmerzahl. Ort 1100 Wien \, Amalienbad am Reumannplatz U1\, 5 min vom Zentrum

URL;VALUE=URI:
SUMMARY:Aqua Jogging Seminar - von Peter Wundsam
DTSTART:20170111T163000Z
END:VEVENT
END:VCALENDAR
An internal server error occurred.