BEGIN:VCALENDAR
VERSION:2.0
PRODID:-//hacksw/handcal//NONSGML v1.0//EN
CALSCALE:GREGORIAN
BEGIN:VEVENT
DTEND:20170519T230000Z
UID:69ed6656bc539
DTSTAMP:20260426T021150Z
LOCATION:1020 Wien
DESCRIPTION:
URL;VALUE=URI:
SUMMARY:Kinderlauf Wien - vom Österr. Frauenlauf
DTSTART:20170519T230000Z
END:VEVENT
END:VCALENDAR
An internal server error occurred.