BEGIN:VCALENDAR
VERSION:2.0
PRODID:-//hacksw/handcal//NONSGML v1.0//EN
CALSCALE:GREGORIAN
BEGIN:VEVENT
DTEND:20170505T230000Z
UID:69ec965041f01
DTSTAMP:20260425T112416Z
LOCATION:1020 Wien
DESCRIPTION:Zählt zu Wien Läuft 2016

URL;VALUE=URI:
SUMMARY:Stadion Center Lauf  
DTSTART:20170505T230000Z
END:VEVENT
END:VCALENDAR
An internal server error occurred.