BEGIN:VCALENDAR
VERSION:2.0
PRODID:-//hacksw/handcal//NONSGML v1.0//EN
CALSCALE:GREGORIAN
BEGIN:VEVENT
DTEND:20170610T230000Z
UID:69ec1572d3615
DTSTAMP:20260425T021426Z
LOCATION:479-0881 Centrair Tokoname

DESCRIPTION:Set in Centrair airport\, this race mixes rural charm with a unique venue.

URL;VALUE=URI:
SUMMARY:Lixil IRONMAN 70.3 Centrair Chita Tokoname Japan 
DTSTART:20170610T230000Z
END:VEVENT
END:VCALENDAR
An internal server error occurred.