BEGIN:VCALENDAR
VERSION:2.0
PRODID:-//hacksw/handcal//NONSGML v1.0//EN
CALSCALE:GREGORIAN
BEGIN:VEVENT
DTEND:20160505T230000Z
UID:69ec964d82726
DTSTAMP:20260425T112413Z
LOCATION:1020 Wien
DESCRIPTION:Zählt zu Wien Läuft 2016

URL;VALUE=URI:
SUMMARY:Stadion Center Lauf 
DTSTART:20160505T230000Z
END:VEVENT
END:VCALENDAR
An internal server error occurred.