BEGIN:VCALENDAR
VERSION:2.0
PRODID:-//hacksw/handcal//NONSGML v1.0//EN
CALSCALE:GREGORIAN
BEGIN:VEVENT
DTEND:20171007T230000Z
UID:69e7e3e2c3957
DTSTAMP:20260421T215354Z
LOCATION:5600 Eindhoven

DESCRIPTION:
URL;VALUE=URI:
SUMMARY:De Lage Landen Marathon Eindhoven
DTSTART:20171007T230000Z
END:VEVENT
END:VCALENDAR
An internal server error occurred.