BEGIN:VCALENDAR
VERSION:2.0
PRODID:-//hacksw/handcal//NONSGML v1.0//EN
CALSCALE:GREGORIAN
BEGIN:VEVENT
DTEND:20170916T230000Z
UID:69e70ec71dab0
DTSTAMP:20260421T064439Z
LOCATION:1466 Sydney

DESCRIPTION:
URL;VALUE=URI:
SUMMARY:Blackmores Sydney Marathon 
DTSTART:20170916T230000Z
END:VEVENT
END:VCALENDAR
An internal server error occurred.