BEGIN:VCALENDAR
VERSION:2.0
PRODID:-//hacksw/handcal//NONSGML v1.0//EN
CALSCALE:GREGORIAN
BEGIN:VEVENT
DTEND:20170909T230000Z
UID:69e8235d65265
DTSTAMP:20260422T022445Z
LOCATION:80-6902 Pembrokeshire

DESCRIPTION:
URL;VALUE=URI:
SUMMARY:IRONMAN Wales 
DTSTART:20170909T230000Z
END:VEVENT
END:VCALENDAR
An internal server error occurred.