BEGIN:VCALENDAR
VERSION:2.0
PRODID:-//hacksw/handcal//NONSGML v1.0//EN
CALSCALE:GREGORIAN
BEGIN:VEVENT
DTEND:20170825T230000Z
UID:69e70ec6b8d95
DTSTAMP:20260421T064438Z
LOCATION:63800 Auvergne

DESCRIPTION:Race in one of France&#39\;s most beautiful cities. Vichy\, known as the "Queen of Spa Towns" offers a trip filled with relaxation\, fun\, art and great racing.
 

URL;VALUE=URI:
SUMMARY:IRONMAN 70.3 Vichy 
DTSTART:20170825T230000Z
END:VEVENT
END:VCALENDAR
An internal server error occurred.