BEGIN:VCALENDAR
VERSION:2.0
PRODID:-//hacksw/handcal//NONSGML v1.0//EN
CALSCALE:GREGORIAN
BEGIN:VEVENT
DTEND:20170819T230000Z
UID:69e65fc7305c4
DTSTAMP:20260420T181759Z
LOCATION:1050 Copenhagen

DESCRIPTION:Enjoy a spectator-filled course through historic Copenhagen.

URL;VALUE=URI:
SUMMARY:KMD IRONMAN Copenhagen 
DTSTART:20170819T230000Z
END:VEVENT
END:VCALENDAR
An internal server error occurred.