BEGIN:VCALENDAR
VERSION:2.0
PRODID:-//hacksw/handcal//NONSGML v1.0//EN
CALSCALE:GREGORIAN
BEGIN:VEVENT
DTEND:20170812T230000Z
UID:69eca3f996170
DTSTAMP:20260425T122233Z
LOCATION:49022 Benton Harbor

DESCRIPTION:A classic American race with a family-friendly atmosphere.
 

URL;VALUE=URI:
SUMMARY:Maytag IRONMAN 70.3 Steelhead
DTSTART:20170812T230000Z
END:VEVENT
END:VCALENDAR
An internal server error occurred.