BEGIN:VCALENDAR
VERSION:2.0
PRODID:-//hacksw/handcal//NONSGML v1.0//EN
CALSCALE:GREGORIAN
BEGIN:VEVENT
DTEND:20170722T230000Z
UID:69e6c9ee50b6e
DTSTAMP:20260421T015054Z
LOCATION:12946 Lake Placid

DESCRIPTION:Race with the Adirondack Mountains as a backdrop in this American classic.

 

URL;VALUE=URI:
SUMMARY:IRONMAN Lake Placid
DTSTART:20170722T230000Z
END:VEVENT
END:VCALENDAR
An internal server error occurred.