BEGIN:VCALENDAR
VERSION:2.0
PRODID:-//hacksw/handcal//NONSGML v1.0//EN
CALSCALE:GREGORIAN
BEGIN:VEVENT
DTEND:20170628T230000Z
UID:69e6093099dc7
DTSTAMP:20260420T120832Z
LOCATION:9020 Klagenfurt

DESCRIPTION:
URL;VALUE=URI:
SUMMARY:Company Triathlon Challenge 
DTSTART:20170628T230000Z
END:VEVENT
END:VCALENDAR
An internal server error occurred.