BEGIN:VCALENDAR
VERSION:2.0
PRODID:-//hacksw/handcal//NONSGML v1.0//EN
CALSCALE:GREGORIAN
BEGIN:VEVENT
DTEND:20170519T230000Z
UID:69ed77aee33e0
DTSTAMP:20260426T032550Z
LOCATION:3100 St. Pölten


DESCRIPTION:
URL;VALUE=URI:
SUMMARY:IRONKIDS St. Pölten 
DTSTART:20170519T230000Z
END:VEVENT
END:VCALENDAR
An internal server error occurred.