BEGIN:VCALENDAR
VERSION:2.0
PRODID:-//hacksw/handcal//NONSGML v1.0//EN
CALSCALE:GREGORIAN
BEGIN:VEVENT
DTEND:20170407T230000Z
UID:69e5c63598a49
DTSTAMP:20260420T072245Z
LOCATION:Rotterdam
DESCRIPTION:
URL;VALUE=URI:
SUMMARY:CPC Loop Den Haag von Rotterdam Marathon-V. NED 
DTSTART:20170407T230000Z
END:VEVENT
END:VCALENDAR
An internal server error occurred.