BEGIN:VCALENDAR
VERSION:2.0
PRODID:-//hacksw/handcal//NONSGML v1.0//EN
CALSCALE:GREGORIAN
BEGIN:VEVENT
DTEND:20170127T230000Z
UID:69eb018560535
DTSTAMP:20260424T063709Z
LOCATION:1111 Madonna di Campiglio-Pinzolo (ITA)
DESCRIPTION:3. Station  Berglauf

URL;VALUE=URI:
SUMMARY:Streif Vertical Up - die Schlacht am Hahnenkamm 
DTSTART:20170127T230000Z
END:VEVENT
END:VCALENDAR
An internal server error occurred.