BEGIN:VCALENDAR
VERSION:2.0
PRODID:-//hacksw/handcal//NONSGML v1.0//EN
CALSCALE:GREGORIAN
BEGIN:VEVENT
DTEND:20170120T230000Z
UID:69eb2ae480ea5
DTSTAMP:20260424T093340Z
LOCATION:39047 Val Gardena-Gröden (ITA)
DESCRIPTION:2. Station  Berglauf

URL;VALUE=URI:
SUMMARY:Streif Vertical Up - die Schlacht am Hahnenkamm  
DTSTART:20170120T230000Z
END:VEVENT
END:VCALENDAR
An internal server error occurred.