BEGIN:VCALENDAR
VERSION:2.0
PRODID:-//hacksw/handcal//NONSGML v1.0//EN
CALSCALE:GREGORIAN
BEGIN:VEVENT
DTEND:20170106T230000Z
UID:69eb2aaecab46
DTSTAMP:20260424T093246Z
LOCATION:4573 Hinterstoder
DESCRIPTION:1 Station  Berglauf

URL;VALUE=URI:
SUMMARY:Streif Vertical Up - die Schlacht am Hahnenkamm 
DTSTART:20170106T230000Z
END:VEVENT
END:VCALENDAR
An internal server error occurred.