BEGIN:VCALENDAR
VERSION:2.0
PRODID:-//hacksw/handcal//NONSGML v1.0//EN
CALSCALE:GREGORIAN
BEGIN:VEVENT
DTEND:20170520T230000Z
UID:69ebd6c6ef178
DTSTAMP:20260424T214702Z
LOCATION:1020 Wien
DESCRIPTION:
URL;VALUE=URI:
SUMMARY:Österreichischer Frauenlauf Wien
DTSTART:20170520T230000Z
END:VEVENT
END:VCALENDAR
An internal server error occurred.