BEGIN:VCALENDAR
VERSION:2.0
PRODID:-//hacksw/handcal//NONSGML v1.0//EN
CALSCALE:GREGORIAN
BEGIN:VEVENT
DTEND:20170408T230000Z
UID:69ed907028225
DTSTAMP:20260426T051128Z
LOCATION:4020 Linz
DESCRIPTION:
URL;VALUE=URI:
SUMMARY:Oberbank Linz Donau Marathon
DTSTART:20170408T230000Z
END:VEVENT
END:VCALENDAR
An internal server error occurred.