BEGIN:VCALENDAR
VERSION:2.0
PRODID:-//hacksw/handcal//NONSGML v1.0//EN
CALSCALE:GREGORIAN
BEGIN:VEVENT
DTEND:20170112T191500Z
UID:69eadb5f8fd84
DTSTAMP:20260424T035423Z
LOCATION:4020 Linz
DESCRIPTION:Das Warum\, Wie\, Wann einer Lauf-\, Lauftechnik Verbesserung. Ein Thema\, das jeden Läufer und jeden anderen\, der läuft - vom Fußballer bis zum Kletterer - interessieren müsste. Präsentiert von Lauftechnik Experte Peter Wundsam. Gsattrainerin Sanda Baumann.Dauer: ca. 100 min oder etwas mehr...Alles verpackt in ein gemütliches Abend\, Location wird noch bekanntgebenen. Anmeldung/ Platzresevierung verpflichtend

URL;VALUE=URI:
SUMMARY:Vortrag: Laufen- gesünder usw. von Peter Wundsam
DTSTART:20170112T173000Z
END:VEVENT
END:VCALENDAR
An internal server error occurred.