BEGIN:VCALENDAR
VERSION:2.0
PRODID:-//hacksw/handcal//NONSGML v1.0//EN
CALSCALE:GREGORIAN
BEGIN:VEVENT
DTEND:20170111T180000Z
UID:69eaf1df4b23c
DTSTAMP:20260424T053023Z
LOCATION:1020 Wien
DESCRIPTION:Das Warum\, Wie\, Wann des stoßbelastungsfreien Trendsportes. Für alle\, die etwas Neues ausprobieren möchten oder müssen\, weil sie verletzt sind oder waren\, übergewichtig oder schwanger sind oder einfach nur präventiv. Platzreservierung verpflichtend. Praktischer Kurs folgt im Anschluss\, kann mit dem Vortrag gebucht werden. Dauer: ca. 90 min\, weiters siehe Beschreibung

URL;VALUE=URI:
SUMMARY:Vortrag: Aqua Joggen- der gesunde Gesundheitssport
DTSTART:20170111T163000Z
END:VEVENT
END:VCALENDAR
An internal server error occurred.