BEGIN:VCALENDAR
VERSION:2.0
PRODID:-//hacksw/handcal//NONSGML v1.0//EN
CALSCALE:GREGORIAN
BEGIN:VEVENT
DTEND:20170429T194500Z
UID:69ed86f1c35ac
DTSTAMP:20260426T043057Z
LOCATION:5350 Strobl am Wolfgangsee
DESCRIPTION:Das Warum\, Wie\, Wann einer Lauf-\, Lauftechnik Verbesserung. Ein Thema\, das jeden Läufer und jeden anderen\, der läuft - vom Fußballer bis zum Kletterer - interessieren müsste. Präsentiert von Lauftechnik Experte Peter Wundsam. Dauer: ca. 100 min oder etwas mehr

URL;VALUE=URI:
SUMMARY:Vortrag: Laufen- gesünder\, wirksamer\, schöner\, schneller ... von Peter Wundsam
DTSTART:20170429T180000Z
END:VEVENT
END:VCALENDAR
An internal server error occurred.