BEGIN:VCALENDAR
VERSION:2.0
PRODID:-//hacksw/handcal//NONSGML v1.0//EN
CALSCALE:GREGORIAN
BEGIN:VEVENT
DTEND:20160831T194500Z
UID:69ed86fcc80a1
DTSTAMP:20260426T043108Z
LOCATION:3100 St. Pölten
DESCRIPTION:Das Warum\, Wie\, Wann einer Lauf-\, Lauftechnik Verbesserung.Ein Thema\, das jeden Läufer und jeden anderen\, der läuft - vom Fußballer bis zum Kletterer - interessieren müsste. Präsentiert von Lauftechnik Experte Peter Wundsam. Dauer: ca. 100 min oder etwas mehr...Alles Verpackt in einen chilligen Abend--- Location folgt noch\, Anmeldung/ Platzreservierung verpflichtend\, Praktischer Kurs folgt im Anschluss\, kann mit dem Vortrag gebucht werden.

URL;VALUE=URI:
SUMMARY:Vortrag: Laufen- gesünder\, wirksamer\, schöner\, schneller ... von Peter Wundsam
DTSTART:20160831T180000Z
END:VEVENT
END:VCALENDAR
An internal server error occurred.