BEGIN:VCALENDAR
VERSION:2.0
PRODID:-//hacksw/handcal//NONSGML v1.0//EN
CALSCALE:GREGORIAN
BEGIN:VEVENT
DTEND:20070601T230000Z
UID:69e70ec84ac07
DTSTAMP:20260421T064440Z
LOCATION:0 
DESCRIPTION:
URL;VALUE=URI:
SUMMARY:17. Emder Matjeslauf 
DTSTART:20070601T230000Z
END:VEVENT
END:VCALENDAR
An internal server error occurred.