BEGIN:VCALENDAR
VERSION:2.0
PRODID:-//hacksw/handcal//NONSGML v1.0//EN
CALSCALE:GREGORIAN
BEGIN:VEVENT
DTEND:20160514T190000Z
UID:69ec0c44bf933
DTSTAMP:20260425T013516Z
LOCATION:4180 Zwettl an der Rodl
DESCRIPTION:
URL;VALUE=URI:
SUMMARY:Int. Zwettler Raml-Gastro 7-Brückenlauf
DTSTART:20160514T140000Z
END:VEVENT
END:VCALENDAR
An internal server error occurred.