BEGIN:VCALENDAR
VERSION:2.0
PRODID:-//hacksw/handcal//NONSGML v1.0//EN
CALSCALE:GREGORIAN
BEGIN:VEVENT
DTEND:20160624T230000Z
UID:69eb45ad2fc4d
DTSTAMP:20260424T112757Z
LOCATION:2432 Schwadorf
DESCRIPTION:
URL;VALUE=URI:
SUMMARY:Schwadorfer Sonnwendlauf und Nordic Walking
DTSTART:20160624T230000Z
END:VEVENT
END:VCALENDAR
An internal server error occurred.