BEGIN:VCALENDAR
VERSION:2.0
PRODID:-//hacksw/handcal//NONSGML v1.0//EN
CALSCALE:GREGORIAN
BEGIN:VEVENT
DTEND:20161014T230000Z
UID:69eac5fd37100
DTSTAMP:20260424T022309Z
LOCATION:8181 Mitterdorf an der Raab
DESCRIPTION:
URL;VALUE=URI:
SUMMARY:Benefizlauf für das Haus Sonnleiten
DTSTART:20161014T230000Z
END:VEVENT
END:VCALENDAR
An internal server error occurred.