BEGIN:VCALENDAR
VERSION:2.0
PRODID:-//hacksw/handcal//NONSGML v1.0//EN
CALSCALE:GREGORIAN
BEGIN:VEVENT
DTEND:20160126T183000Z
UID:69ed86f39775b
DTSTAMP:20260426T043059Z
LOCATION:4020 Linz
DESCRIPTION:Das Warum\, Wie\, Wann einer Lauf-\, Lauftechnik Verbesserung. Ein Thema\, das jeden Läufer und jeden anderen\, der läuft - vom Fußballer bis zum Kletterer - interessieren müsste. Präsentiert von Lauftechnik Experte Peter Wundsam. Dauer: ca. 100 min oder etwas mehr...Alles verpackt in ein gemütliches Abendessen beim nachhaltigen Biowirt\, Wirt am Graben\, Anmeldung/ Platzresevierung verpflichtend

 

URL;VALUE=URI:
SUMMARY:Vortrag: Laufen- gesünder\, wirksamer\, schöner\, schneller ... von Peter Wundsam
DTSTART:20160126T170000Z
END:VEVENT
END:VCALENDAR
An internal server error occurred.