BEGIN:VCALENDAR
VERSION:2.0
PRODID:-//hacksw/handcal//NONSGML v1.0//EN
CALSCALE:GREGORIAN
BEGIN:VEVENT
DTEND:20160706T230000Z
UID:69ebc16e65d67
DTSTAMP:20260424T201558Z
LOCATION:92421 Schwandorf
DESCRIPTION:
URL;VALUE=URI:
SUMMARY:Innovationspark/BMW Schwandorfer Firmenlauf 
DTSTART:20160706T230000Z
END:VEVENT
END:VCALENDAR
An internal server error occurred.