BEGIN:VCALENDAR
VERSION:2.0
PRODID:-//hacksw/handcal//NONSGML v1.0//EN
CALSCALE:GREGORIAN
BEGIN:VEVENT
DTEND:20160528T230000Z
UID:69e5e230ee3ea
DTSTAMP:20260420T092208Z
LOCATION:Edinburgh
DESCRIPTION:INTERNATIONALER EVENT vom 24. bis 25. Mai 2014

URL;VALUE=URI:
SUMMARY:Edinburgh Marathon SCO
DTSTART:20160528T230000Z
END:VEVENT
END:VCALENDAR
An internal server error occurred.