BEGIN:VCALENDAR
VERSION:2.0
PRODID:-//hacksw/handcal//NONSGML v1.0//EN
CALSCALE:GREGORIAN
BEGIN:VEVENT
DTEND:20160409T230000Z
UID:69e603b8a29cd
DTSTAMP:20260420T114512Z
LOCATION:Manchester

DESCRIPTION:
URL;VALUE=URI:
SUMMARY:ASICS Greather Manchester Marathon
DTSTART:20160409T230000Z
END:VEVENT
END:VCALENDAR
An internal server error occurred.