BEGIN:VCALENDAR
VERSION:2.0
PRODID:-//hacksw/handcal//NONSGML v1.0//EN
CALSCALE:GREGORIAN
BEGIN:VEVENT
DTEND:20160409T230000Z
UID:69e4d36bb1f15
DTSTAMP:20260419T140651Z
LOCATION:Rotterdam
DESCRIPTION:
URL;VALUE=URI:
SUMMARY:CPC Loop Den Haag von Rotterdam Marathon-V. NED
DTSTART:20160409T230000Z
END:VEVENT
END:VCALENDAR
An internal server error occurred.