BEGIN:VCALENDAR
VERSION:2.0
PRODID:-//hacksw/handcal//NONSGML v1.0//EN
CALSCALE:GREGORIAN
BEGIN:VEVENT
DTEND:20160917T230000Z
UID:69e73ac65307d
DTSTAMP:20260421T095222Z
LOCATION:Sydney

DESCRIPTION:
URL;VALUE=URI:
SUMMARY:Blackmores Sydney Marathon
DTSTART:20160917T230000Z
END:VEVENT
END:VCALENDAR
An internal server error occurred.