BEGIN:VCALENDAR
VERSION:2.0
PRODID:-//hacksw/handcal//NONSGML v1.0//EN
CALSCALE:GREGORIAN
BEGIN:VEVENT
DTEND:20160819T230000Z
UID:69ebd3e861037
DTSTAMP:20260424T213448Z
LOCATION:Bela Bela

DESCRIPTION:Join the unique bushveld triathlon experience in the heart of South Africa&#39\;s Limpopo province.

URL;VALUE=URI:
SUMMARY:Standard Bank 5150 Bela Bela
DTSTART:20160819T230000Z
END:VEVENT
END:VCALENDAR
An internal server error occurred.