BEGIN:VCALENDAR
VERSION:2.0
PRODID:-//hacksw/handcal//NONSGML v1.0//EN
CALSCALE:GREGORIAN
BEGIN:VEVENT
DTEND:20160708T230000Z
UID:69e7419842e29
DTSTAMP:20260421T102128Z
LOCATION:Muncie

DESCRIPTION:The welcoming heat of America&#39\;s rust belt offers a family-friendly environment for athletes and spectators.

URL;VALUE=URI:
SUMMARY:IRONMAN 70.3 Muncie
DTSTART:20160708T230000Z
END:VEVENT
END:VCALENDAR
An internal server error occurred.