BEGIN:VCALENDAR
VERSION:2.0
PRODID:-//hacksw/handcal//NONSGML v1.0//EN
CALSCALE:GREGORIAN
BEGIN:VEVENT
DTEND:20160604T230000Z
UID:69ebdf51ce689
DTSTAMP:20260424T222329Z
LOCATION:Kraichgau

DESCRIPTION:The olympic distance on the legendary circuit.

URL;VALUE=URI:
SUMMARY:Sparkasse 5150 Kraichgau  PRESENTED BY: KraichgauEnergie
DTSTART:20160604T230000Z
END:VEVENT
END:VCALENDAR
An internal server error occurred.