BEGIN:VCALENDAR
VERSION:2.0
PRODID:-//hacksw/handcal//NONSGML v1.0//EN
CALSCALE:GREGORIAN
BEGIN:VEVENT
DTEND:20160527T230000Z
UID:69ed5e8b5e253
DTSTAMP:20260426T013835Z
LOCATION:8010 Graz
DESCRIPTION:
URL;VALUE=URI:
SUMMARY:LadiesRun Graz
DTSTART:20160527T230000Z
END:VEVENT
END:VCALENDAR
An internal server error occurred.