BEGIN:VCALENDAR
VERSION:2.0
PRODID:-//hacksw/handcal//NONSGML v1.0//EN
CALSCALE:GREGORIAN
BEGIN:VEVENT
DTEND:20160226T230000Z
UID:69eb0b7525144
DTSTAMP:20260424T071933Z
LOCATION:6370 Kitzbühel 
DESCRIPTION:Berglauf

URL;VALUE=URI:
SUMMARY:Streif Vertical Up - die Schlacht am Hahnenkamm
DTSTART:20160226T230000Z
END:VEVENT
END:VCALENDAR
An internal server error occurred.