BEGIN:VCALENDAR
VERSION:2.0
PRODID:-//hacksw/handcal//NONSGML v1.0//EN
CALSCALE:GREGORIAN
BEGIN:VEVENT
DTEND:20151024T193000Z
UID:69ec03adbddb8
DTSTAMP:20260425T005837Z
LOCATION:A- 1020 Wien
DESCRIPTION:Das Warum\, Wie\, Wann des stoßbelastungsfreien Trendsportes. Für alle\, die etwas Neues ausprobieren möchten oder müssen\, weil sie verletzt sind oder waren\, übergewichtig oder schwanger sind oder einfach nur präventiv.  vorausichtlich Cuchine\, Lilienbrunngasse 3\, Bitte rückfragen

URL;VALUE=URI:
SUMMARY:Vortrag: Aqua Joggen- der gesunde Gesundheitssport
DTSTART:20151024T180000Z
END:VEVENT
END:VCALENDAR
An internal server error occurred.