BEGIN:VCALENDAR
VERSION:2.0
PRODID:-//hacksw/handcal//NONSGML v1.0//EN
CALSCALE:GREGORIAN
BEGIN:VEVENT
DTEND:20150911T230000Z
UID:69ed3677ac2f3
DTSTAMP:20260425T224735Z
LOCATION:Madison

DESCRIPTION:
 

URL;VALUE=URI:
SUMMARY:IRONKIDS Wisconsin Fun Run
DTSTART:20150911T230000Z
END:VEVENT
END:VCALENDAR
An internal server error occurred.