BEGIN:VCALENDAR
VERSION:2.0
PRODID:-//hacksw/handcal//NONSGML v1.0//EN
CALSCALE:GREGORIAN
BEGIN:VEVENT
DTEND:20150814T230000Z
UID:69ed77b1a2930
DTSTAMP:20260426T032553Z
LOCATION:Lake Winnipesaukee

DESCRIPTION:

 

URL;VALUE=URI:
SUMMARY:IRONKIDS Lake Stevens Fun Run
DTSTART:20150814T230000Z
END:VEVENT
END:VCALENDAR
An internal server error occurred.