BEGIN:VCALENDAR
VERSION:2.0
PRODID:-//hacksw/handcal//NONSGML v1.0//EN
CALSCALE:GREGORIAN
BEGIN:VEVENT
DTEND:20150725T230000Z
UID:69e63b4c32b5e
DTSTAMP:20260420T154220Z
LOCATION:Lake Placid

DESCRIPTION:Race with the Adirondack Mountains as a backdrop in this American classic.

 

URL;VALUE=URI:
SUMMARY:IRONMAN Lake Placid
DTSTART:20150725T230000Z
END:VEVENT
END:VCALENDAR
An internal server error occurred.