BEGIN:VCALENDAR
VERSION:2.0
PRODID:-//hacksw/handcal//NONSGML v1.0//EN
CALSCALE:GREGORIAN
BEGIN:VEVENT
DTEND:20150717T230000Z
UID:69ed77b1b89ea
DTSTAMP:20260426T032553Z
LOCATION:Wisconsin

DESCRIPTION:
URL;VALUE=URI:
SUMMARY:IRONKIDS Racine Fun Run
DTSTART:20150717T230000Z
END:VEVENT
END:VCALENDAR
An internal server error occurred.