BEGIN:VCALENDAR
VERSION:2.0
PRODID:-//hacksw/handcal//NONSGML v1.0//EN
CALSCALE:GREGORIAN
BEGIN:VEVENT
DTEND:20150704T230000Z
UID:69e859d94b629
DTSTAMP:20260422T061713Z
LOCATION:Muskoka

DESCRIPTION:A mid-summer race loved for its stunning beauty and naturally tough course.
 

URL;VALUE=URI:
SUMMARY:SUBARU IRONMAN 70.3 Muskoka
DTSTART:20150704T230000Z
END:VEVENT
END:VCALENDAR
An internal server error occurred.