BEGIN:VCALENDAR
VERSION:2.0
PRODID:-//hacksw/handcal//NONSGML v1.0//EN
CALSCALE:GREGORIAN
BEGIN:VEVENT
DTEND:20150613T230000Z
UID:69e5dd6679c01
DTSTAMP:20260420T090142Z
LOCATION:Victoria

DESCRIPTION:Take in wild beauty\, Victorian gardens\, and history on Canada&#39\;s wild yet cultured Vancouver Island.

URL;VALUE=URI:
SUMMARY:Saunders Subaru IRONMAN 70.3 Victoria
DTSTART:20150613T230000Z
END:VEVENT
END:VCALENDAR
An internal server error occurred.