BEGIN:VCALENDAR
VERSION:2.0
PRODID:-//hacksw/handcal//NONSGML v1.0//EN
CALSCALE:GREGORIAN
BEGIN:VEVENT
DTEND:20150612T230000Z
UID:69e5d167870a2
DTSTAMP:20260420T081031Z
LOCATION:Colorado

DESCRIPTION:Race in one of triathlon&#39\;s main hubs\, with its downtown college scene and mountain culture.
 

URL;VALUE=URI:
SUMMARY:IRONMAN 70.3 Boulder
DTSTART:20150612T230000Z
END:VEVENT
END:VCALENDAR
An internal server error occurred.