BEGIN:VCALENDAR
VERSION:2.0
PRODID:-//hacksw/handcal//NONSGML v1.0//EN
CALSCALE:GREGORIAN
BEGIN:VEVENT
DTEND:20150401T183000Z
UID:69ebe8616a523
DTSTAMP:20260424T230209Z
LOCATION:1020 Wien
DESCRIPTION:Die "Cuchina" die Lebensküche. Das Warum\, Wie\, Wann des stoßbelastungsfreien Trendsportes. Für alle\, die etwas Neues ausprobieren möchten oder müssen\, weil sie verletzt sind oder waren\, übergewichtig oder schwanger sind oder einfach nur präventiv. Ort 1020 Wien Dianabad gegenüber Schwedenplatz

URL;VALUE=URI:
SUMMARY:Vortrag: Aqua Joggen- der gesunde Gesundheitssport
DTSTART:20150401T170000Z
END:VEVENT
END:VCALENDAR
An internal server error occurred.